BEGIN:VCALENDAR
VERSION:2.0
PRODID:-//Tukios.com/
BEGIN:VEVENT
UID:c0c5168a-3bfb-4e0c-94ab-4436720d3a43@www.jurrensfuneralhome.com
DTSTAMP:20260420T001351Z
DTSTART:20260423T190000Z
DTEND:20260423T200000Z
SUMMARY:Funeral Service
DESCRIPTION:Visitation will be from noon until the time of the service at 
	the church.
URL:https://www.jurrensfuneralhome.com/obituaries/pearl-folkens
LOCATION: 512 South Union Street  Rock Rapids IA 51246
GEO:43.4264804;-96.1750874
END:VEVENT
END:VCALENDAR