BEGIN:VCALENDAR
VERSION:2.0
PRODID:-//Tukios.com/
BEGIN:VEVENT
UID:0140623f-ab02-4333-aa60-8179357c96a1@www.jurrensfuneralhome.com
DTSTAMP:20260425T231318Z
DTSTART:20260430T143000Z
DTEND:20260430T153000Z
SUMMARY:Visitation
DESCRIPTION:On hour prior to service.
URL:https://www.jurrensfuneralhome.com/obituaries/louise-kuhl
LOCATION: 704 Poplar Drive  Sibley IA 51249
GEO:43.4086189;-95.7437286
END:VEVENT
END:VCALENDAR