BEGIN:VCALENDAR
VERSION:2.0
PRODID:-//Tukios.com/
BEGIN:VEVENT
UID:3fe5e5f5-cc75-4cca-8e7b-417d474b1acd@www.jurrensfuneralhome.com
DTSTAMP:20260422T000509Z
DTSTART:20260424T200000Z
DTEND:20260425T000000Z
SUMMARY:Visitation
DESCRIPTION:FAMILY PRESENT 5 to 7 PM
URL:https://www.jurrensfuneralhome.com/obituaries/douglas-eddy
LOCATION:Jurrens Funeral Home of Sibley 505 9th Street  Sibley IA 51249
GEO:43.3987819;-95.7473764
END:VEVENT
END:VCALENDAR