BEGIN:VCALENDAR
VERSION:2.0
PRODID:-//Tukios.com/
BEGIN:VEVENT
UID:50af91bf-6df9-4ef1-b481-4308c5cb164b@www.jurrensfuneralhome.com
DTSTAMP:20260422T000730Z
DTSTART:20260425T150000Z
DTEND:20260425T160000Z
SUMMARY:Mass
DESCRIPTION:
URL:https://www.jurrensfuneralhome.com/obituaries/douglas-eddy
LOCATION:St. Andrews Catholic Church 505 9th Street  Sibley IA 51249
GEO:43.3987638;-95.7473852
END:VEVENT
END:VCALENDAR